BEGIN:VCALENDAR
VERSION:2.0
PRODID:-//Pocahontas Bassett Baptist Church - ECPv6.15.20//NONSGML v1.0//EN
CALSCALE:GREGORIAN
METHOD:PUBLISH
X-WR-CALNAME:Pocahontas Bassett Baptist Church
X-ORIGINAL-URL:https://pocahontasbaptist.com
X-WR-CALDESC:Events for Pocahontas Bassett Baptist Church
REFRESH-INTERVAL;VALUE=DURATION:PT1H
X-Robots-Tag:noindex
X-PUBLISHED-TTL:PT1H
BEGIN:VTIMEZONE
TZID:America/New_York
BEGIN:DAYLIGHT
TZOFFSETFROM:-0500
TZOFFSETTO:-0400
TZNAME:EDT
DTSTART:20250309T070000
END:DAYLIGHT
BEGIN:STANDARD
TZOFFSETFROM:-0400
TZOFFSETTO:-0500
TZNAME:EST
DTSTART:20251102T060000
END:STANDARD
BEGIN:DAYLIGHT
TZOFFSETFROM:-0500
TZOFFSETTO:-0400
TZNAME:EDT
DTSTART:20260308T070000
END:DAYLIGHT
BEGIN:STANDARD
TZOFFSETFROM:-0400
TZOFFSETTO:-0500
TZNAME:EST
DTSTART:20261101T060000
END:STANDARD
BEGIN:DAYLIGHT
TZOFFSETFROM:-0500
TZOFFSETTO:-0400
TZNAME:EDT
DTSTART:20270314T070000
END:DAYLIGHT
BEGIN:STANDARD
TZOFFSETFROM:-0400
TZOFFSETTO:-0500
TZNAME:EST
DTSTART:20271107T060000
END:STANDARD
END:VTIMEZONE
BEGIN:VEVENT
DTSTART;TZID=America/New_York:20260420T173000
DTEND;TZID=America/New_York:20260420T183000
DTSTAMP:20260416T233201
CREATED:20260330T200000Z
LAST-MODIFIED:20260330T200000Z
UID:934-1776706200-1776709800@pocahontasbaptist.com
SUMMARY:PBBC Stewardship Committee Meeting
DESCRIPTION:
URL:https://pocahontasbaptist.com/event/pbbc-stewardship-committee-meeting/
LOCATION:Pocahontas Bassett Baptist Church\, 120 Bassett Heights Road\, Bassett\, Virginia\, 24055\, United States
CATEGORIES:Church Events
END:VEVENT
BEGIN:VEVENT
DTSTART;TZID=America/New_York:20260421T190000
DTEND;TZID=America/New_York:20260421T200000
DTSTAMP:20260416T233201
CREATED:20260330T195330Z
LAST-MODIFIED:20260330T195611Z
UID:932-1776798000-1776801600@pocahontasbaptist.com
SUMMARY:PBBC Deacons' Meeting
DESCRIPTION:
URL:https://pocahontasbaptist.com/event/pbbc-deacons-meeting/
LOCATION:Pocahontas Bassett Baptist Church\, 120 Bassett Heights Road\, Bassett\, Virginia\, 24055\, United States
CATEGORIES:Church Events
END:VEVENT
END:VCALENDAR